BEGIN:VCALENDAR
VERSION:2.0
PRODID:-//Vermilion Parish - ECPv6.15.20//NONSGML v1.0//EN
CALSCALE:GREGORIAN
METHOD:PUBLISH
X-WR-CALNAME:Vermilion Parish
X-ORIGINAL-URL:https://mostcajun.com
X-WR-CALDESC:Events for Vermilion Parish
REFRESH-INTERVAL;VALUE=DURATION:PT1H
X-Robots-Tag:noindex
X-PUBLISHED-TTL:PT1H
BEGIN:VTIMEZONE
TZID:UTC
BEGIN:STANDARD
TZOFFSETFROM:+0000
TZOFFSETTO:+0000
TZNAME:UTC
DTSTART:20250101T000000
END:STANDARD
END:VTIMEZONE
BEGIN:VTIMEZONE
TZID:America/New_York
BEGIN:DAYLIGHT
TZOFFSETFROM:-0500
TZOFFSETTO:-0400
TZNAME:EDT
DTSTART:20250309T070000
END:DAYLIGHT
BEGIN:STANDARD
TZOFFSETFROM:-0400
TZOFFSETTO:-0500
TZNAME:EST
DTSTART:20251102T060000
END:STANDARD
BEGIN:DAYLIGHT
TZOFFSETFROM:-0500
TZOFFSETTO:-0400
TZNAME:EDT
DTSTART:20260308T070000
END:DAYLIGHT
BEGIN:STANDARD
TZOFFSETFROM:-0400
TZOFFSETTO:-0500
TZNAME:EST
DTSTART:20261101T060000
END:STANDARD
BEGIN:DAYLIGHT
TZOFFSETFROM:-0500
TZOFFSETTO:-0400
TZNAME:EDT
DTSTART:20270314T070000
END:DAYLIGHT
BEGIN:STANDARD
TZOFFSETFROM:-0400
TZOFFSETTO:-0500
TZNAME:EST
DTSTART:20271107T060000
END:STANDARD
END:VTIMEZONE
BEGIN:VEVENT
DTSTART;TZID=UTC:20260101T130000
DTEND;TZID=UTC:20260328T170000
DTSTAMP:20260422T110251
CREATED:20250612T174315Z
LAST-MODIFIED:20260219T173611Z
UID:10000007-1767272400-1774717200@mostcajun.com
SUMMARY:Gueydan Museum Exhibit: Swamp Spirits
DESCRIPTION:One swamp photograph\, 8 different interpretations! View the paintings done by local artists as they interpret the beautiful swamp-themed photograph by Michelle Crefasi. Open Mon-Fri\, 1-5pm; Sat\, 10am-5pm.
URL:https://mostcajun.com/event/gueydan-museum-exhibit-swamp-spirits/
LOCATION:Gueydan Museum\, 615 4th St\, Gueydan\, LA\, 70542\, United States
ATTACH;FMTTYPE=image/webp:https://mostcajun.com/wp-content/uploads/2025/05/gueydan_museum.webp
END:VEVENT
BEGIN:VEVENT
DTSTART;TZID=UTC:20260302T090000
DTEND;TZID=UTC:20260424T160000
DTSTAMP:20260422T110251
CREATED:20260303T194346Z
LAST-MODIFIED:20260303T194346Z
UID:10000179-1772442000-1777046400@mostcajun.com
SUMMARY:Art Exhibit: Talented and Gifted Art Students
DESCRIPTION:View the drawings\, paintings and realistic “deserts” made from clay by the Vermilion Parish Talented and Gifted art students. Meet the Artist on Wednesday\, March 25 from 5-7pm. Exhibit will be on display until the end of April.
URL:https://mostcajun.com/event/art-exhibit-talented-and-gifted-art-students/
LOCATION:LA
ATTACH;FMTTYPE=image/jpeg:https://mostcajun.com/wp-content/uploads/2026/03/art-desserts.jpeg
END:VEVENT
BEGIN:VEVENT
DTSTART;TZID=UTC:20260306T100000
DTEND;TZID=UTC:20260306T110000
DTSTAMP:20260422T110251
CREATED:20250610T164135Z
LAST-MODIFIED:20260129T172619Z
UID:10000119-1772791200-1772794800@mostcajun.com
SUMMARY:French Table at Le Musee de Kaplan
DESCRIPTION:Join the Kaplan Museum for an informal French Table Discussion group. Everyone is invited to attend\, whether you speak French or not! Held the first and third Friday of the month. Table begins at 10am.
URL:https://mostcajun.com/event/french-table-at-le-musee-de-kaplan/2026-03-06/
LOCATION:Le Musee de Kaplan\, 405 N Cushing Blvd\, Kaplan\, LA\, 70548\, United States
ATTACH;FMTTYPE=image/jpeg:https://mostcajun.com/wp-content/uploads/2025/06/kaplan-museum-mural.jpg
END:VEVENT
BEGIN:VEVENT
DTSTART;TZID=UTC:20260307T090000
DTEND;TZID=UTC:20260307T130000
DTSTAMP:20260422T110251
CREATED:20250904T184732Z
LAST-MODIFIED:20260129T165619Z
UID:10000028-1772874000-1772888400@mostcajun.com
SUMMARY:Delcambre Seafood and Farmers Market
DESCRIPTION:Open air market with local produce\, fresh seafood\, music and more! Held the first Saturday of the month from March to December.
URL:https://mostcajun.com/event/delcambre-seafood-and-farmers-market-4/2026-03-07/
LOCATION:Bayou Carlin Cove\, 605 S Railroad St\, Delcambre\, LA\, 70528\, United States
ATTACH;FMTTYPE=image/jpeg:https://mostcajun.com/wp-content/uploads/2025/09/Delcambre_market_cracklin.jpg
END:VEVENT
BEGIN:VEVENT
DTSTART;TZID=UTC:20260312T173000
DTEND;TZID=UTC:20260312T203000
DTSTAMP:20260422T110251
CREATED:20250904T174434Z
LAST-MODIFIED:20260209T170113Z
UID:10000016-1773336600-1773347400@mostcajun.com
SUMMARY:Sounds on the Square: Lukas Meaux
DESCRIPTION:Enjoy live music by Lukas Meaux and Cajun Beat under Magdalen Square’s oaks. Bring your lawn chair and dancing shoes! Refreshments will be sold. For information\, call 337-652-2239.
URL:https://mostcajun.com/event/sounds-on-the-square-clara-rae/
LOCATION:Downtown Abbeville\, Downtown\, Abbeville\, LA\, 70510\, United States
ATTACH;FMTTYPE=image/jpeg:https://mostcajun.com/wp-content/uploads/2025/09/Vermilion-Sounds-on-Sq.jpg
END:VEVENT
BEGIN:VEVENT
DTSTART;TZID=UTC:20260314T090000
DTEND;TZID=UTC:20260314T120000
DTSTAMP:20260422T110251
CREATED:20250910T170412Z
LAST-MODIFIED:20260129T172939Z
UID:10000129-1773478800-1773489600@mostcajun.com
SUMMARY:Dutch Oven Gathering
DESCRIPTION:Join the Latanier Cookers at Pavilion #1 for a Dutch Oven cooking demonstration\, interacting with the cooks and taste testing between 11am-noon. Bring your chairs and ice chest! Admission to enter the Park. For info\, 337-298-3098.
URL:https://mostcajun.com/event/dutch-oven-gathering-3/2026-03-14/
LOCATION:Palmetto Island State Park\, 19501 Pleasant Rd\, Abbeville\, LA\, 70510\, United States
ATTACH;FMTTYPE=image/jpeg:https://mostcajun.com/wp-content/uploads/2025/09/latanier-cookers.jpg
END:VEVENT
BEGIN:VEVENT
DTSTART;TZID=UTC:20260314T100000
DTEND;TZID=UTC:20260314T140000
DTSTAMP:20260422T110251
CREATED:20250904T200307Z
LAST-MODIFIED:20260305T160721Z
UID:10000180-1773482400-1773496800@mostcajun.com
SUMMARY:Vermilion Farmers & Artisans Market at the Grub Lot
DESCRIPTION:Come shop the many vendors while enjoying music and good food from the food trucks at The Grub Lot. Markets are held the 2nd Saturday of the month from March to December.
URL:https://mostcajun.com/event/vermilion-farmers-artisans-market-at-the-grub-lot-4/2026-03-14/
LOCATION:The Grub Lot\, 126 Old Railroad Rd\, Erath\, LA\, 70533\, United States
ATTACH;FMTTYPE=image/jpeg:https://mostcajun.com/wp-content/uploads/2025/09/Grub-Lot-market.jpg
END:VEVENT
BEGIN:VEVENT
DTSTART;TZID=UTC:20260314T140000
DTEND;TZID=UTC:20260314T180000
DTSTAMP:20260422T110251
CREATED:20250519T140827Z
LAST-MODIFIED:20260129T175353Z
UID:10000141-1773496800-1773511200@mostcajun.com
SUMMARY:Touchet's Jam Session
DESCRIPTION:Come pass a good time while listening and dancing to live Cajun French music. Bring your instruments and join in on the jam session from 2-6pm. Held the second and fourth Saturday of the month.
URL:https://mostcajun.com/event/touchets-jam-session/2026-03-14/
LOCATION:Touchet’s Bar\, 7490 Hwy 167\, Maurice\, LA\, 70510\, United States
ATTACH;FMTTYPE=image/jpeg:https://mostcajun.com/wp-content/uploads/2025/07/Touchets.jpg
END:VEVENT
BEGIN:VEVENT
DTSTART;TZID=UTC:20260319T173000
DTEND;TZID=UTC:20260319T203000
DTSTAMP:20260422T110251
CREATED:20250904T174703Z
LAST-MODIFIED:20260209T170258Z
UID:10000017-1773941400-1773952200@mostcajun.com
SUMMARY:Sounds on the Square: Austin Reaux
DESCRIPTION:Enjoy live music by Austin Reaux and Cajun Company under Magdalen Square’s oaks. Bring your lawn chair and dancing shoes! Refreshments will be sold. For information\, call 337-652-2239.
URL:https://mostcajun.com/event/sounds-on-the-square/
LOCATION:Downtown Abbeville\, Downtown\, Abbeville\, LA\, 70510\, United States
ATTACH;FMTTYPE=image/jpeg:https://mostcajun.com/wp-content/uploads/2025/09/Vermilion-Sounds-on-Sq.jpg
END:VEVENT
BEGIN:VEVENT
DTSTART;TZID=America/New_York:20260321T100000
DTEND;TZID=America/New_York:20260321T150000
DTSTAMP:20260422T110251
CREATED:20260209T173118Z
LAST-MODIFIED:20260209T173118Z
UID:10000167-1774087200-1774105200@mostcajun.com
SUMMARY:Sicilian Celebration
DESCRIPTION:Come celebrate the Sicilian culture with a cooking contest\, live music\, Blacksmith Shop tours and demonstrations\, food and beverages\, and more. For more information\, 337-652-6148.
URL:https://mostcajun.com/event/sicilian-celebration/
LOCATION:Sam Guarino Blacksmith Shop Museum & Heritage Center\, 304 S. State St\, A\, LA\, 70510\, United States
ATTACH;FMTTYPE=image/jpeg:https://mostcajun.com/wp-content/uploads/2026/02/sicilian.jpeg
END:VEVENT
BEGIN:VEVENT
DTSTART;TZID=UTC:20260321T100000
DTEND;TZID=UTC:20260321T160000
DTSTAMP:20260422T110251
CREATED:20251021T154831Z
LAST-MODIFIED:20260303T193417Z
UID:10000043-1774087200-1774108800@mostcajun.com
SUMMARY:Artwalk en Rue de Concorde & Vermilion Student Expo
DESCRIPTION:Celebrate the arts in Vermilion Parish! Over 30 arts vendors down Concorde St with Vermilion Parish student performances in Magdalen Square and downtown Abbeville.
URL:https://mostcajun.com/event/80s-night/
LOCATION:Downtown Abbeville\, Downtown\, Abbeville\, LA\, 70510\, United States
ATTACH;FMTTYPE=image/jpeg:https://mostcajun.com/wp-content/uploads/2025/10/artwalk-26.jpg
ORGANIZER;CN="Vermilion Arts Coouncil":MAILTO:vermilionartcouncil2024@gmail.com
END:VEVENT
BEGIN:VEVENT
DTSTART;TZID=America/New_York:20260326T173000
DTEND;TZID=America/New_York:20260326T203000
DTSTAMP:20260422T110251
CREATED:20250904T174917Z
LAST-MODIFIED:20260209T170831Z
UID:10000018-1774546200-1774557000@mostcajun.com
SUMMARY:Sounds on the Square: Leroy Thomas
DESCRIPTION:Enjoy live music by Leroy Thomas and the Zydeco Roadrunners under Magdalen Square’s oaks. Bring your lawn chair and dancing shoes! Refreshments will be sold. For information\, call 337-652-2239.
URL:https://mostcajun.com/event/sounds-on-the-square-2/
LOCATION:Downtown Abbeville\, Downtown\, Abbeville\, LA\, 70510\, United States
ATTACH;FMTTYPE=image/jpeg:https://mostcajun.com/wp-content/uploads/2025/09/Vermilion-Sounds-on-Sq.jpg
END:VEVENT
BEGIN:VEVENT
DTSTART;TZID=UTC:20260328T140000
DTEND;TZID=UTC:20260328T180000
DTSTAMP:20260422T110251
CREATED:20250910T165246Z
LAST-MODIFIED:20260129T175748Z
UID:10000154-1774706400-1774720800@mostcajun.com
SUMMARY:Touchet's Jam Session
DESCRIPTION:Come pass a good time while listening and dancing to live Cajun French music. Bring your instruments and join in on the jam session from 2-6pm. Held the second and fourth Saturday of the month.
URL:https://mostcajun.com/event/touchets-jam-session-6/2026-03-28/
LOCATION:Touchet’s Bar\, 7490 Hwy 167\, Maurice\, LA\, 70510\, United States
ATTACH;FMTTYPE=image/jpeg:https://mostcajun.com/wp-content/uploads/2025/07/Touchets.jpg
END:VEVENT
END:VCALENDAR