BEGIN:VCALENDAR
VERSION:2.0
PRODID:-//Vermilion Parish - ECPv6.15.20//NONSGML v1.0//EN
CALSCALE:GREGORIAN
METHOD:PUBLISH
X-ORIGINAL-URL:https://mostcajun.com
X-WR-CALDESC:Events for Vermilion Parish
REFRESH-INTERVAL;VALUE=DURATION:PT1H
X-Robots-Tag:noindex
X-PUBLISHED-TTL:PT1H
BEGIN:VTIMEZONE
TZID:UTC
BEGIN:STANDARD
TZOFFSETFROM:+0000
TZOFFSETTO:+0000
TZNAME:UTC
DTSTART:20240101T000000
END:STANDARD
END:VTIMEZONE
BEGIN:VEVENT
DTSTART;TZID=UTC:20251206T150000
DTEND;TZID=UTC:20251206T200000
DTSTAMP:20260423T020900
CREATED:20251202T211419Z
LAST-MODIFIED:20251202T211610Z
UID:10000047-1765033200-1765051200@mostcajun.com
SUMMARY:Christmas in Erath
DESCRIPTION:Join the Town of Erath as they kick off the holiday season with food\, music\, holiday market\, Selfies with Santa from 5:00-8:00pm\, train rides\, music and the Lighting of the Tree at 6:00pm.
URL:https://mostcajun.com/event/christmas-in-erath/
LOCATION:Town of Erath\, 115 W Edwards\, Erath\, LA\, 70533\, United States
ATTACH;FMTTYPE=image/jpeg:https://mostcajun.com/wp-content/uploads/2025/12/25-Erath-Xmas.jpg
END:VEVENT
BEGIN:VEVENT
DTSTART;TZID=UTC:20251129T090000
DTEND;TZID=UTC:20251129T140000
DTSTAMP:20260423T020900
CREATED:20250904T180836Z
LAST-MODIFIED:20250904T180909Z
UID:10000021-1764406800-1764424800@mostcajun.com
SUMMARY:Flightline's Cajun Country Christmas Market
DESCRIPTION:Shop the fall market with plenty of vendors selling a variety of items for the holidays.
URL:https://mostcajun.com/event/flightlines-cajun-country-christmas-market/
LOCATION:Flightline Park\, 17621 LA Hwy 82\, Abbeville\, LA\, 70510\, United States
ATTACH;FMTTYPE=image/webp:https://mostcajun.com/wp-content/uploads/2025/09/flightline-mrkt.webp
END:VEVENT
BEGIN:VEVENT
DTSTART;TZID=UTC:20251115T110000
DTEND;TZID=UTC:20251115T170000
DTSTAMP:20260423T020900
CREATED:20251021T155658Z
LAST-MODIFIED:20251021T155658Z
UID:10000041-1763204400-1763226000@mostcajun.com
SUMMARY:Cow Island Live
DESCRIPTION:Held in rural Vermilion Parish\, this event showcases live\, original music. Tent camping available\, jambalaya and concessions for sale. Bring your ice chests. Admission for ages 16 and older.
URL:https://mostcajun.com/event/cow-island-live/
LOCATION:Cow Island Live\, 14102 Sammy Rd\, Abbeville\, LA\, 70510\, United States
END:VEVENT
BEGIN:VEVENT
DTSTART;TZID=UTC:20251108T090000
DTEND;TZID=UTC:20251108T170000
DTSTAMP:20260423T020900
CREATED:20251021T145423Z
LAST-MODIFIED:20251103T182344Z
UID:10000042-1762592400-1762621200@mostcajun.com
SUMMARY:Tailgate and Gumbo to Grow
DESCRIPTION:Join North Vermilion Youth Athletic Association for their inaugural tailgate and cook-off event to raise money for youth sports in our community! Gumbo cook-off\, petting zoo\, football watch party\, fun jumps\, vendors\, pics with Santa and more. Enty fees: Adults $10\, kids $20 (covers all activities and gumbo tasting. Enter gumbo cook-off competition\, $85 per entry; vendors $100. Email nvyaa2register@gmail.com
URL:https://mostcajun.com/event/tailgate-and-gumbo-to-grow/
LOCATION:NVYAA\, 11494 LA Hwy 699\, Maurice\, LA\, 70555\, United States
ATTACH;FMTTYPE=image/jpeg:https://mostcajun.com/wp-content/uploads/2025/10/NVYAA-flyer.jpeg
END:VEVENT
BEGIN:VEVENT
DTSTART;TZID=UTC:20250927T090000
DTEND;TZID=UTC:20250927T140000
DTSTAMP:20260423T020900
CREATED:20250904T180619Z
LAST-MODIFIED:20250904T180619Z
UID:10000020-1758963600-1758981600@mostcajun.com
SUMMARY:Flightline's Fall Market
DESCRIPTION:Shop the fall market with plenty of vendors selling a variety of items.
URL:https://mostcajun.com/event/flightlines-fall-market/
LOCATION:Flightline Park\, 17621 LA Hwy 82\, Abbeville\, LA\, 70510\, United States
ATTACH;FMTTYPE=image/webp:https://mostcajun.com/wp-content/uploads/2025/09/flightline-mrkt.webp
END:VEVENT
BEGIN:VEVENT
DTSTART;TZID=UTC:20250920T110000
DTEND;TZID=UTC:20250920T130000
DTSTAMP:20260423T020900
CREATED:20250909T202024Z
LAST-MODIFIED:20250909T202056Z
UID:10000033-1758366000-1758373200@mostcajun.com
SUMMARY:Uniquely U 2025
DESCRIPTION:Celebrate our Special Needs community with family fun and games in a carnival atmosphere\, free treats and more! Hosted by the Vermilion Reach Group\, vermilionreachgroup@outlook.com.
URL:https://mostcajun.com/event/uniquely-u-2025/
LOCATION:AA Comeaux Park\, 301 AA Comeaux Memorial Dr\, Abbeville\, LA\, 70510\, United States
ATTACH;FMTTYPE=image/jpeg:https://mostcajun.com/wp-content/uploads/2025/09/uniquely-U.jpg
END:VEVENT
BEGIN:VEVENT
DTSTART;TZID=UTC:20250913T110000
DTEND;TZID=UTC:20250913T170000
DTSTAMP:20260423T020900
CREATED:20250910T164538Z
LAST-MODIFIED:20250910T164654Z
UID:10000034-1757761200-1757782800@mostcajun.com
SUMMARY:AHS Marching Band's Anything Over Rice Cook-off
DESCRIPTION:Come out and support Abbeville High School’s Marching Band at the Anything Over Rice Cook-off! Lots of music\, vendors\, games\, silent auction and more with cook-off judging at 11:30am followed by live music starting at 12:15pm. Contact bandbooster.ahs@gmail.com to enter the cooking competition.
URL:https://mostcajun.com/event/ahs-marching-bands-anything-over-rice-cook-off/
LOCATION:LSU Ag Center\, 1105 W Port St\, Abbeville\, LA\, 70510\, United States
ATTACH;FMTTYPE=image/webp:https://mostcajun.com/wp-content/uploads/2025/05/jambalaya_0.webp
END:VEVENT
BEGIN:VEVENT
DTSTART;TZID=UTC:20250913T100000
DTEND;TZID=UTC:20250913T140000
DTSTAMP:20260423T020900
CREATED:20250904T200102Z
LAST-MODIFIED:20250904T200102Z
UID:10000029-1757757600-1757772000@mostcajun.com
SUMMARY:Vermilion Farmers & Artisans Market at the Grub Lot
DESCRIPTION:Come shop the many vendors while enjoying music and good food from the food trucks at The Grub Lot. Markets are held the 2nd Saturday of the month.
URL:https://mostcajun.com/event/vermilion-farmers-artisans-market-at-the-grub-lot/
LOCATION:The Grub Lot\, 126 Old Railroad Rd\, Erath\, LA\, 70533\, United States
ATTACH;FMTTYPE=image/jpeg:https://mostcajun.com/wp-content/uploads/2025/09/Grub-Lot-market.jpg
END:VEVENT
BEGIN:VEVENT
DTSTART;TZID=UTC:20250907T100000
DTEND;TZID=UTC:20250907T140000
DTSTAMP:20260423T020900
CREATED:20250903T191538Z
LAST-MODIFIED:20250903T202746Z
UID:10000011-1757239200-1757253600@mostcajun.com
SUMMARY:Vermilion Venue Farmers' Market
DESCRIPTION:Join us each Sunday for fresh\, local produce and other vendors.
URL:https://mostcajun.com/event/vermilion-venue-farmers-market/
LOCATION:Vermilion Venue\, 2401 Veterans Memorial Dr\, Abbeville\, LA\, 70510\, United States
ATTACH;FMTTYPE=image/webp:https://mostcajun.com/wp-content/uploads/2025/05/Delcambre-Seafood-Farmers-Market.webp
END:VEVENT
END:VCALENDAR