BEGIN:VCALENDAR
VERSION:2.0
PRODID:-//Vermilion Parish - ECPv6.15.20//NONSGML v1.0//EN
CALSCALE:GREGORIAN
METHOD:PUBLISH
X-ORIGINAL-URL:https://mostcajun.com
X-WR-CALDESC:Events for Vermilion Parish
REFRESH-INTERVAL;VALUE=DURATION:PT1H
X-Robots-Tag:noindex
X-PUBLISHED-TTL:PT1H
BEGIN:VTIMEZONE
TZID:America/New_York
BEGIN:DAYLIGHT
TZOFFSETFROM:-0500
TZOFFSETTO:-0400
TZNAME:EDT
DTSTART:20250309T070000
END:DAYLIGHT
BEGIN:STANDARD
TZOFFSETFROM:-0400
TZOFFSETTO:-0500
TZNAME:EST
DTSTART:20251102T060000
END:STANDARD
BEGIN:DAYLIGHT
TZOFFSETFROM:-0500
TZOFFSETTO:-0400
TZNAME:EDT
DTSTART:20260308T070000
END:DAYLIGHT
BEGIN:STANDARD
TZOFFSETFROM:-0400
TZOFFSETTO:-0500
TZNAME:EST
DTSTART:20261101T060000
END:STANDARD
BEGIN:DAYLIGHT
TZOFFSETFROM:-0500
TZOFFSETTO:-0400
TZNAME:EDT
DTSTART:20270314T070000
END:DAYLIGHT
BEGIN:STANDARD
TZOFFSETFROM:-0400
TZOFFSETTO:-0500
TZNAME:EST
DTSTART:20271107T060000
END:STANDARD
END:VTIMEZONE
BEGIN:VTIMEZONE
TZID:UTC
BEGIN:STANDARD
TZOFFSETFROM:+0000
TZOFFSETTO:+0000
TZNAME:UTC
DTSTART:20240101T000000
END:STANDARD
END:VTIMEZONE
BEGIN:VEVENT
DTSTART;TZID=America/New_York:20260321T100000
DTEND;TZID=America/New_York:20260321T150000
DTSTAMP:20260422T182748
CREATED:20260209T173118Z
LAST-MODIFIED:20260209T173118Z
UID:10000167-1774087200-1774105200@mostcajun.com
SUMMARY:Sicilian Celebration
DESCRIPTION:Come celebrate the Sicilian culture with a cooking contest\, live music\, Blacksmith Shop tours and demonstrations\, food and beverages\, and more. For more information\, 337-652-6148.
URL:https://mostcajun.com/event/sicilian-celebration/
LOCATION:Sam Guarino Blacksmith Shop Museum & Heritage Center\, 304 S. State St\, A\, LA\, 70510\, United States
ATTACH;FMTTYPE=image/jpeg:https://mostcajun.com/wp-content/uploads/2026/02/sicilian.jpeg
END:VEVENT
BEGIN:VEVENT
DTSTART;TZID=UTC:20260319T173000
DTEND;TZID=UTC:20260319T203000
DTSTAMP:20260422T182748
CREATED:20250904T174703Z
LAST-MODIFIED:20260209T170258Z
UID:10000017-1773941400-1773952200@mostcajun.com
SUMMARY:Sounds on the Square: Austin Reaux
DESCRIPTION:Enjoy live music by Austin Reaux and Cajun Company under Magdalen Square’s oaks. Bring your lawn chair and dancing shoes! Refreshments will be sold. For information\, call 337-652-2239.
URL:https://mostcajun.com/event/sounds-on-the-square/
LOCATION:Downtown Abbeville\, Downtown\, Abbeville\, LA\, 70510\, United States
ATTACH;FMTTYPE=image/jpeg:https://mostcajun.com/wp-content/uploads/2025/09/Vermilion-Sounds-on-Sq.jpg
END:VEVENT
BEGIN:VEVENT
DTSTART;TZID=UTC:20260314T140000
DTEND;TZID=UTC:20260314T180000
DTSTAMP:20260422T182748
CREATED:20250519T140827Z
LAST-MODIFIED:20260129T175353Z
UID:10000141-1773496800-1773511200@mostcajun.com
SUMMARY:Touchet's Jam Session
DESCRIPTION:Come pass a good time while listening and dancing to live Cajun French music. Bring your instruments and join in on the jam session from 2-6pm. Held the second and fourth Saturday of the month.
URL:https://mostcajun.com/event/touchets-jam-session/2026-03-14/
LOCATION:Touchet’s Bar\, 7490 Hwy 167\, Maurice\, LA\, 70510\, United States
ATTACH;FMTTYPE=image/jpeg:https://mostcajun.com/wp-content/uploads/2025/07/Touchets.jpg
END:VEVENT
BEGIN:VEVENT
DTSTART;TZID=UTC:20260314T100000
DTEND;TZID=UTC:20260314T140000
DTSTAMP:20260422T182748
CREATED:20250904T200307Z
LAST-MODIFIED:20260305T160721Z
UID:10000180-1773482400-1773496800@mostcajun.com
SUMMARY:Vermilion Farmers & Artisans Market at the Grub Lot
DESCRIPTION:Come shop the many vendors while enjoying music and good food from the food trucks at The Grub Lot. Markets are held the 2nd Saturday of the month from March to December.
URL:https://mostcajun.com/event/vermilion-farmers-artisans-market-at-the-grub-lot-4/2026-03-14/
LOCATION:The Grub Lot\, 126 Old Railroad Rd\, Erath\, LA\, 70533\, United States
ATTACH;FMTTYPE=image/jpeg:https://mostcajun.com/wp-content/uploads/2025/09/Grub-Lot-market.jpg
END:VEVENT
BEGIN:VEVENT
DTSTART;TZID=UTC:20260314T090000
DTEND;TZID=UTC:20260314T120000
DTSTAMP:20260422T182748
CREATED:20250910T170412Z
LAST-MODIFIED:20260129T172939Z
UID:10000129-1773478800-1773489600@mostcajun.com
SUMMARY:Dutch Oven Gathering
DESCRIPTION:Join the Latanier Cookers at Pavilion #1 for a Dutch Oven cooking demonstration\, interacting with the cooks and taste testing between 11am-noon. Bring your chairs and ice chest! Admission to enter the Park. For info\, 337-298-3098.
URL:https://mostcajun.com/event/dutch-oven-gathering-3/2026-03-14/
LOCATION:Palmetto Island State Park\, 19501 Pleasant Rd\, Abbeville\, LA\, 70510\, United States
ATTACH;FMTTYPE=image/jpeg:https://mostcajun.com/wp-content/uploads/2025/09/latanier-cookers.jpg
END:VEVENT
BEGIN:VEVENT
DTSTART;TZID=UTC:20260312T173000
DTEND;TZID=UTC:20260312T203000
DTSTAMP:20260422T182748
CREATED:20250904T174434Z
LAST-MODIFIED:20260209T170113Z
UID:10000016-1773336600-1773347400@mostcajun.com
SUMMARY:Sounds on the Square: Lukas Meaux
DESCRIPTION:Enjoy live music by Lukas Meaux and Cajun Beat under Magdalen Square’s oaks. Bring your lawn chair and dancing shoes! Refreshments will be sold. For information\, call 337-652-2239.
URL:https://mostcajun.com/event/sounds-on-the-square-clara-rae/
LOCATION:Downtown Abbeville\, Downtown\, Abbeville\, LA\, 70510\, United States
ATTACH;FMTTYPE=image/jpeg:https://mostcajun.com/wp-content/uploads/2025/09/Vermilion-Sounds-on-Sq.jpg
END:VEVENT
BEGIN:VEVENT
DTSTART;TZID=UTC:20260307T090000
DTEND;TZID=UTC:20260307T130000
DTSTAMP:20260422T182748
CREATED:20250904T184732Z
LAST-MODIFIED:20260129T165619Z
UID:10000028-1772874000-1772888400@mostcajun.com
SUMMARY:Delcambre Seafood and Farmers Market
DESCRIPTION:Open air market with local produce\, fresh seafood\, music and more! Held the first Saturday of the month from March to December.
URL:https://mostcajun.com/event/delcambre-seafood-and-farmers-market-4/2026-03-07/
LOCATION:Bayou Carlin Cove\, 605 S Railroad St\, Delcambre\, LA\, 70528\, United States
ATTACH;FMTTYPE=image/jpeg:https://mostcajun.com/wp-content/uploads/2025/09/Delcambre_market_cracklin.jpg
END:VEVENT
BEGIN:VEVENT
DTSTART;TZID=UTC:20260306T100000
DTEND;TZID=UTC:20260306T110000
DTSTAMP:20260422T182748
CREATED:20250610T164135Z
LAST-MODIFIED:20260129T172619Z
UID:10000119-1772791200-1772794800@mostcajun.com
SUMMARY:French Table at Le Musee de Kaplan
DESCRIPTION:Join the Kaplan Museum for an informal French Table Discussion group. Everyone is invited to attend\, whether you speak French or not! Held the first and third Friday of the month. Table begins at 10am.
URL:https://mostcajun.com/event/french-table-at-le-musee-de-kaplan/2026-03-06/
LOCATION:Le Musee de Kaplan\, 405 N Cushing Blvd\, Kaplan\, LA\, 70548\, United States
ATTACH;FMTTYPE=image/jpeg:https://mostcajun.com/wp-content/uploads/2025/06/kaplan-museum-mural.jpg
END:VEVENT
BEGIN:VEVENT
DTSTART;TZID=UTC:20260228T140000
DTEND;TZID=UTC:20260228T180000
DTSTAMP:20260422T182748
CREATED:20250910T165246Z
LAST-MODIFIED:20260129T175748Z
UID:10000153-1772287200-1772301600@mostcajun.com
SUMMARY:Touchet's Jam Session
DESCRIPTION:Come pass a good time while listening and dancing to live Cajun French music. Bring your instruments and join in on the jam session from 2-6pm. Held the second and fourth Saturday of the month.
URL:https://mostcajun.com/event/touchets-jam-session-6/2026-02-28/
LOCATION:Touchet’s Bar\, 7490 Hwy 167\, Maurice\, LA\, 70510\, United States
ATTACH;FMTTYPE=image/jpeg:https://mostcajun.com/wp-content/uploads/2025/07/Touchets.jpg
END:VEVENT
BEGIN:VEVENT
DTSTART;TZID=UTC:20260228T080000
DTEND;TZID=UTC:20260228T123000
DTSTAMP:20260422T182748
CREATED:20251103T182116Z
LAST-MODIFIED:20260129T173626Z
UID:10000046-1772265600-1772281800@mostcajun.com
SUMMARY:Cracklin Cooking Demonstration
DESCRIPTION:Join the Friends of Palmetto Island State Park for the annual Cracklin Cooking Demonstration. Music by Justin Cormier. Demonstrations begin at 8am with tasting as the dishes are done. Park admission applies.
URL:https://mostcajun.com/event/12th-annual-pork-in-the-park/
LOCATION:Palmetto Island State Park\, 19501 Pleasant Rd\, Abbeville\, LA\, 70510\, United States
ATTACH;FMTTYPE=image/jpeg:https://mostcajun.com/wp-content/uploads/2025/09/Cracklin.jpg
END:VEVENT
BEGIN:VEVENT
DTSTART;TZID=UTC:20260217T140000
DTEND;TZID=UTC:20260217T180000
DTSTAMP:20260422T182748
CREATED:20250910T165119Z
LAST-MODIFIED:20260129T214051Z
UID:10000035-1771336800-1771351200@mostcajun.com
SUMMARY:Krewe Chic-a-La-Pie Mardi Gras Parade
DESCRIPTION:Enjoy a family-friendly\, old-fashioned Mardi Gras parade that rolls in downtown Kaplan at 2pm. For more information\, contact 337-643-8602 or lindavincent723@gmail.com
URL:https://mostcajun.com/event/touchets-jam-session-4/
LOCATION:City of Kaplan\, Cushing Blvd\, Kaplan\, LA\, 70548\, United States
ATTACH;FMTTYPE=image/webp:https://mostcajun.com/wp-content/uploads/2025/06/kaplan-MG-float.webp
END:VEVENT
BEGIN:VEVENT
DTSTART;TZID=UTC:20260214T140000
DTEND;TZID=UTC:20260214T180000
DTSTAMP:20260422T182748
CREATED:20250519T140827Z
LAST-MODIFIED:20260129T175353Z
UID:10000140-1771077600-1771092000@mostcajun.com
SUMMARY:Touchet's Jam Session
DESCRIPTION:Come pass a good time while listening and dancing to live Cajun French music. Bring your instruments and join in on the jam session from 2-6pm. Held the second and fourth Saturday of the month.
URL:https://mostcajun.com/event/touchets-jam-session/2026-02-14/
LOCATION:Touchet’s Bar\, 7490 Hwy 167\, Maurice\, LA\, 70510\, United States
ATTACH;FMTTYPE=image/jpeg:https://mostcajun.com/wp-content/uploads/2025/07/Touchets.jpg
END:VEVENT
BEGIN:VEVENT
DTSTART;TZID=UTC:20260214T090000
DTEND;TZID=UTC:20260214T120000
DTSTAMP:20260422T182748
CREATED:20250910T165214Z
LAST-MODIFIED:20260129T171515Z
UID:10000036-1771059600-1771070400@mostcajun.com
SUMMARY:Dutch Oven Gathering
DESCRIPTION:Treat your Valentine to a Latanier Cookers Dutch Oven Gathering. The meal is beef and potatoes with complimentary desserts and sides. Bring your pots and cook with us! Gathering is at Pavilion #1 and starts at 9am with tasting at 12 pm.
URL:https://mostcajun.com/event/touchets-jam-session-5/
LOCATION:Palmetto Island State Park\, 19501 Pleasant Rd\, Abbeville\, LA\, 70510\, United States
ATTACH;FMTTYPE=image/jpeg:https://mostcajun.com/wp-content/uploads/2025/09/February-DOG-2026.jpg
END:VEVENT
BEGIN:VEVENT
DTSTART;TZID=UTC:20260207T140000
DTEND;TZID=UTC:20260207T160000
DTSTAMP:20260422T182748
CREATED:20250904T184118Z
LAST-MODIFIED:20260129T182335Z
UID:10000024-1770472800-1770480000@mostcajun.com
SUMMARY:Krewe of Palmetto celebrates Louisiana Mardi Gras
DESCRIPTION:Join us for a fun-filled day and our annual golf cart parade the rolls through the campground at 3pm. Best Golf Cart Decoration Contest immediately following the parade. Admission to the park. Golf cart fees and rules will apply.
URL:https://mostcajun.com/event/abbeville-farmers-artisans-market-2/
LOCATION:Palmetto Island State Park\, 19501 Pleasant Rd\, Abbeville\, LA\, 70510\, United States
ATTACH;FMTTYPE=image/jpeg:https://mostcajun.com/wp-content/uploads/2025/09/2026-MG-Flyer.jpg
END:VEVENT
BEGIN:VEVENT
DTSTART;TZID=UTC:20260206T190000
DTEND;TZID=UTC:20260208T140000
DTSTAMP:20260422T182748
CREATED:20251021T160553Z
LAST-MODIFIED:20260129T165330Z
UID:10000044-1770404400-1770559200@mostcajun.com
SUMMARY:CYT presents: Annie
DESCRIPTION:Enjoy a performance by the Christian Youth Theatre group as they present the Broadway musical Annie. Performance times: Fri 7pm; Sat 2 & 7 pm; Sun 2pm. Advance tickets $16\, at the door $18.
URL:https://mostcajun.com/event/cyt-presents-mary-poppins/
LOCATION:Abbeville High School Auditorium\, 1305 Wildcat Dr\, Abbeville\, 70510\, United States
ATTACH;FMTTYPE=image/jpeg:https://mostcajun.com/wp-content/uploads/2025/10/annie.jpeg
END:VEVENT
BEGIN:VEVENT
DTSTART;TZID=UTC:20260206T100000
DTEND;TZID=UTC:20260206T110000
DTSTAMP:20260422T182748
CREATED:20250610T164135Z
LAST-MODIFIED:20260129T172619Z
UID:10000118-1770372000-1770375600@mostcajun.com
SUMMARY:French Table at Le Musee de Kaplan
DESCRIPTION:Join the Kaplan Museum for an informal French Table Discussion group. Everyone is invited to attend\, whether you speak French or not! Held the first and third Friday of the month. Table begins at 10am.
URL:https://mostcajun.com/event/french-table-at-le-musee-de-kaplan/2026-02-06/
LOCATION:Le Musee de Kaplan\, 405 N Cushing Blvd\, Kaplan\, LA\, 70548\, United States
ATTACH;FMTTYPE=image/jpeg:https://mostcajun.com/wp-content/uploads/2025/06/kaplan-museum-mural.jpg
END:VEVENT
BEGIN:VEVENT
DTSTART;TZID=UTC:20260131T180000
DTEND;TZID=UTC:20260131T220000
DTSTAMP:20260422T182748
CREATED:20250519T140702Z
LAST-MODIFIED:20260129T214851Z
UID:10000002-1769882400-1769896800@mostcajun.com
SUMMARY:Remembering the Dream Gala
DESCRIPTION:The Remembering the Dream Gala aims to honor the legacy of Dr. Martin Luther King Jr and his unwavering commitment to justice\, equality and social change. Tickets are available on Eventbrite.
URL:https://mostcajun.com/event/gueydan-museum-exhibit-theresa-trahan-paintings/
LOCATION:Magdalen Place\, 2 South Magdalen Square\, Abbeville\, LA\, 70510\, United States
ATTACH;FMTTYPE=image/jpeg:https://mostcajun.com/wp-content/uploads/2025/05/MLK-gala.jpg
END:VEVENT
BEGIN:VEVENT
DTSTART;TZID=UTC:20260124T140000
DTEND;TZID=UTC:20260124T180000
DTSTAMP:20260422T182748
CREATED:20250910T165246Z
LAST-MODIFIED:20260129T175748Z
UID:10000152-1769263200-1769277600@mostcajun.com
SUMMARY:Touchet's Jam Session
DESCRIPTION:Come pass a good time while listening and dancing to live Cajun French music. Bring your instruments and join in on the jam session from 2-6pm. Held the second and fourth Saturday of the month.
URL:https://mostcajun.com/event/touchets-jam-session-6/2026-01-24/
LOCATION:Touchet’s Bar\, 7490 Hwy 167\, Maurice\, LA\, 70510\, United States
ATTACH;FMTTYPE=image/jpeg:https://mostcajun.com/wp-content/uploads/2025/07/Touchets.jpg
END:VEVENT
BEGIN:VEVENT
DTSTART;TZID=America/New_York:20260119T090000
DTEND;TZID=America/New_York:20260119T140000
DTSTAMP:20260422T182748
CREATED:20260114T165812Z
LAST-MODIFIED:20260114T170819Z
UID:10000087-1768813200-1768831200@mostcajun.com
SUMMARY:MLK Day Celebration
DESCRIPTION:Join in the day of celebration honoring Dr. Martin Luther King Jr. Stump Service from 9-9:30am at the corner of Green and Joiner Sts followed by the Million Man March Tribute through downtown Abbeville and concluding with the MLK Celebration in Magdalen Square from 11am-2pm.
URL:https://mostcajun.com/event/mlk-day-celebration/
LOCATION:Downtown Abbeville\, Downtown\, Abbeville\, LA\, 70510\, United States
ATTACH;FMTTYPE=image/jpeg:https://mostcajun.com/wp-content/uploads/2026/01/26-MLK.jpg
ORGANIZER;CN="Vermilion Reach Group":MAILTO:vermilionreachgroup@outlook.com
END:VEVENT
BEGIN:VEVENT
DTSTART;TZID=UTC:20260110T140000
DTEND;TZID=UTC:20260110T180000
DTSTAMP:20260422T182748
CREATED:20250519T140827Z
LAST-MODIFIED:20260129T175353Z
UID:10000139-1768053600-1768068000@mostcajun.com
SUMMARY:Touchet's Jam Session
DESCRIPTION:Come pass a good time while listening and dancing to live Cajun French music. Bring your instruments and join in on the jam session from 2-6pm. Held the second and fourth Saturday of the month.
URL:https://mostcajun.com/event/touchets-jam-session/2026-01-10/
LOCATION:Touchet’s Bar\, 7490 Hwy 167\, Maurice\, LA\, 70510\, United States
ATTACH;FMTTYPE=image/jpeg:https://mostcajun.com/wp-content/uploads/2025/07/Touchets.jpg
END:VEVENT
BEGIN:VEVENT
DTSTART;TZID=UTC:20260105T090000
DTEND;TZID=UTC:20260227T160000
DTSTAMP:20260422T182748
CREATED:20250519T140454Z
LAST-MODIFIED:20260209T170504Z
UID:10000001-1767603600-1772208000@mostcajun.com
SUMMARY:Art Exhibit: Mardi Gras in Vermilion Parish
DESCRIPTION:On display are photographs\, ball costumes and information on the Mardi Gras Krewes in Vermilion Parish – Gueydan\, Kaplan\, Erath and Delcambre. “Meet the Krewes” on Thurs.\, Feb. 19 from 5-7pm. Open Mon-Fri\, 9am-4pm.
URL:https://mostcajun.com/event/art-exhibit-talented-and-gifted-visual-art-students/
LOCATION:Abbeville Cultural Center\, 200 N. Magdalen Square\, Abbeville\, LA\, 70510\, United States
ATTACH;FMTTYPE=image/jpeg:https://mostcajun.com/wp-content/uploads/2025/05/MG-exhibit.jpeg
END:VEVENT
BEGIN:VEVENT
DTSTART;TZID=UTC:20260102T100000
DTEND;TZID=UTC:20260102T110000
DTSTAMP:20260422T182748
CREATED:20250610T164135Z
LAST-MODIFIED:20260129T172619Z
UID:10000117-1767348000-1767351600@mostcajun.com
SUMMARY:French Table at Le Musee de Kaplan
DESCRIPTION:Join the Kaplan Museum for an informal French Table Discussion group. Everyone is invited to attend\, whether you speak French or not! Held the first and third Friday of the month. Table begins at 10am.
URL:https://mostcajun.com/event/french-table-at-le-musee-de-kaplan/2026-01-02/
LOCATION:Le Musee de Kaplan\, 405 N Cushing Blvd\, Kaplan\, LA\, 70548\, United States
ATTACH;FMTTYPE=image/jpeg:https://mostcajun.com/wp-content/uploads/2025/06/kaplan-museum-mural.jpg
END:VEVENT
BEGIN:VEVENT
DTSTART;TZID=UTC:20260101T130000
DTEND;TZID=UTC:20260328T170000
DTSTAMP:20260422T182748
CREATED:20250612T174315Z
LAST-MODIFIED:20260219T173611Z
UID:10000007-1767272400-1774717200@mostcajun.com
SUMMARY:Gueydan Museum Exhibit: Swamp Spirits
DESCRIPTION:One swamp photograph\, 8 different interpretations! View the paintings done by local artists as they interpret the beautiful swamp-themed photograph by Michelle Crefasi. Open Mon-Fri\, 1-5pm; Sat\, 10am-5pm.
URL:https://mostcajun.com/event/gueydan-museum-exhibit-swamp-spirits/
LOCATION:Gueydan Museum\, 615 4th St\, Gueydan\, LA\, 70542\, United States
ATTACH;FMTTYPE=image/webp:https://mostcajun.com/wp-content/uploads/2025/05/gueydan_museum.webp
END:VEVENT
BEGIN:VEVENT
DTSTART;TZID=UTC:20251213T080000
DTEND;TZID=UTC:20251213T203000
DTSTAMP:20260422T182748
CREATED:20251202T212615Z
LAST-MODIFIED:20251202T212705Z
UID:10000048-1765612800-1765657800@mostcajun.com
SUMMARY:Delcambre Project Graduation Gumbo Cook-off
DESCRIPTION:Annual gumbo cook-off to benefit the graduating class of Delcambre High School. Cook-off\, auctions\, music\, vendors and more.
URL:https://mostcajun.com/event/delcambre-project-graduation-gumbo-cook-off/
LOCATION:Delcambre Shrimp Festival Grounds\, 319 E Main St\, Delcambre\, LA\, 70528\, United States
ATTACH;FMTTYPE=image/jpeg:https://mostcajun.com/wp-content/uploads/2025/12/Delcambre-gumbo-25.jpg
END:VEVENT
BEGIN:VEVENT
DTSTART;TZID=UTC:20251206T173000
DTEND;TZID=UTC:20251206T193000
DTSTAMP:20260422T182748
CREATED:20251202T213510Z
LAST-MODIFIED:20251202T213510Z
UID:10000049-1765042200-1765049400@mostcajun.com
SUMMARY:Kaplan's Christmas Extravaganza
DESCRIPTION:Join the Krewe Chic-a-la-Pie and Kaplan Chamber of Commerce as they present the annual Kaplan Holiday Parade and Santa’s arrival in Turnley Park. Parade forms can be picked up at City Hall.
URL:https://mostcajun.com/event/kaplans-christmas-extravaganza/
LOCATION:City of Kaplan\, Cushing Blvd\, Kaplan\, LA\, 70548\, United States
ATTACH;FMTTYPE=image/jpeg:https://mostcajun.com/wp-content/uploads/2025/12/25-Kaplan-parade.jpg
END:VEVENT
BEGIN:VEVENT
DTSTART;TZID=UTC:20251206T150000
DTEND;TZID=UTC:20251206T200000
DTSTAMP:20260422T182748
CREATED:20251202T211419Z
LAST-MODIFIED:20251202T211610Z
UID:10000047-1765033200-1765051200@mostcajun.com
SUMMARY:Christmas in Erath
DESCRIPTION:Join the Town of Erath as they kick off the holiday season with food\, music\, holiday market\, Selfies with Santa from 5:00-8:00pm\, train rides\, music and the Lighting of the Tree at 6:00pm.
URL:https://mostcajun.com/event/christmas-in-erath/
LOCATION:Town of Erath\, 115 W Edwards\, Erath\, LA\, 70533\, United States
ATTACH;FMTTYPE=image/jpeg:https://mostcajun.com/wp-content/uploads/2025/12/25-Erath-Xmas.jpg
END:VEVENT
BEGIN:VEVENT
DTSTART;TZID=UTC:20251129T090000
DTEND;TZID=UTC:20251129T140000
DTSTAMP:20260422T182748
CREATED:20250904T180836Z
LAST-MODIFIED:20250904T180909Z
UID:10000021-1764406800-1764424800@mostcajun.com
SUMMARY:Flightline's Cajun Country Christmas Market
DESCRIPTION:Shop the fall market with plenty of vendors selling a variety of items for the holidays.
URL:https://mostcajun.com/event/flightlines-cajun-country-christmas-market/
LOCATION:Flightline Park\, 17621 LA Hwy 82\, Abbeville\, LA\, 70510\, United States
ATTACH;FMTTYPE=image/webp:https://mostcajun.com/wp-content/uploads/2025/09/flightline-mrkt.webp
END:VEVENT
BEGIN:VEVENT
DTSTART;TZID=UTC:20251115T110000
DTEND;TZID=UTC:20251115T170000
DTSTAMP:20260422T182748
CREATED:20251021T155658Z
LAST-MODIFIED:20251021T155658Z
UID:10000041-1763204400-1763226000@mostcajun.com
SUMMARY:Cow Island Live
DESCRIPTION:Held in rural Vermilion Parish\, this event showcases live\, original music. Tent camping available\, jambalaya and concessions for sale. Bring your ice chests. Admission for ages 16 and older.
URL:https://mostcajun.com/event/cow-island-live/
LOCATION:Cow Island Live\, 14102 Sammy Rd\, Abbeville\, LA\, 70510\, United States
END:VEVENT
BEGIN:VEVENT
DTSTART;TZID=UTC:20251108T090000
DTEND;TZID=UTC:20251108T170000
DTSTAMP:20260422T182748
CREATED:20251021T145423Z
LAST-MODIFIED:20251103T182344Z
UID:10000042-1762592400-1762621200@mostcajun.com
SUMMARY:Tailgate and Gumbo to Grow
DESCRIPTION:Join North Vermilion Youth Athletic Association for their inaugural tailgate and cook-off event to raise money for youth sports in our community! Gumbo cook-off\, petting zoo\, football watch party\, fun jumps\, vendors\, pics with Santa and more. Enty fees: Adults $10\, kids $20 (covers all activities and gumbo tasting. Enter gumbo cook-off competition\, $85 per entry; vendors $100. Email nvyaa2register@gmail.com
URL:https://mostcajun.com/event/tailgate-and-gumbo-to-grow/
LOCATION:NVYAA\, 11494 LA Hwy 699\, Maurice\, LA\, 70555\, United States
ATTACH;FMTTYPE=image/jpeg:https://mostcajun.com/wp-content/uploads/2025/10/NVYAA-flyer.jpeg
END:VEVENT
BEGIN:VEVENT
DTSTART;TZID=UTC:20250927T090000
DTEND;TZID=UTC:20250927T140000
DTSTAMP:20260422T182748
CREATED:20250904T180619Z
LAST-MODIFIED:20250904T180619Z
UID:10000020-1758963600-1758981600@mostcajun.com
SUMMARY:Flightline's Fall Market
DESCRIPTION:Shop the fall market with plenty of vendors selling a variety of items.
URL:https://mostcajun.com/event/flightlines-fall-market/
LOCATION:Flightline Park\, 17621 LA Hwy 82\, Abbeville\, LA\, 70510\, United States
ATTACH;FMTTYPE=image/webp:https://mostcajun.com/wp-content/uploads/2025/09/flightline-mrkt.webp
END:VEVENT
END:VCALENDAR