BEGIN:VCALENDAR
VERSION:2.0
PRODID:-//Vermilion Parish - ECPv6.15.20//NONSGML v1.0//EN
CALSCALE:GREGORIAN
METHOD:PUBLISH
X-ORIGINAL-URL:https://mostcajun.com
X-WR-CALDESC:Events for Vermilion Parish
REFRESH-INTERVAL;VALUE=DURATION:PT1H
X-Robots-Tag:noindex
X-PUBLISHED-TTL:PT1H
BEGIN:VTIMEZONE
TZID:UTC
BEGIN:STANDARD
TZOFFSETFROM:+0000
TZOFFSETTO:+0000
TZNAME:UTC
DTSTART:20250101T000000
END:STANDARD
END:VTIMEZONE
BEGIN:VTIMEZONE
TZID:America/New_York
BEGIN:DAYLIGHT
TZOFFSETFROM:-0500
TZOFFSETTO:-0400
TZNAME:EDT
DTSTART:20250309T070000
END:DAYLIGHT
BEGIN:STANDARD
TZOFFSETFROM:-0400
TZOFFSETTO:-0500
TZNAME:EST
DTSTART:20251102T060000
END:STANDARD
BEGIN:DAYLIGHT
TZOFFSETFROM:-0500
TZOFFSETTO:-0400
TZNAME:EDT
DTSTART:20260308T070000
END:DAYLIGHT
BEGIN:STANDARD
TZOFFSETFROM:-0400
TZOFFSETTO:-0500
TZNAME:EST
DTSTART:20261101T060000
END:STANDARD
BEGIN:DAYLIGHT
TZOFFSETFROM:-0500
TZOFFSETTO:-0400
TZNAME:EDT
DTSTART:20270314T070000
END:DAYLIGHT
BEGIN:STANDARD
TZOFFSETFROM:-0400
TZOFFSETTO:-0500
TZNAME:EST
DTSTART:20271107T060000
END:STANDARD
END:VTIMEZONE
BEGIN:VEVENT
DTSTART;TZID=UTC:20260302T090000
DTEND;TZID=UTC:20260424T160000
DTSTAMP:20260422T123458
CREATED:20260303T194346Z
LAST-MODIFIED:20260303T194346Z
UID:10000179-1772442000-1777046400@mostcajun.com
SUMMARY:Art Exhibit: Talented and Gifted Art Students
DESCRIPTION:View the drawings\, paintings and realistic “deserts” made from clay by the Vermilion Parish Talented and Gifted art students. Meet the Artist on Wednesday\, March 25 from 5-7pm. Exhibit will be on display until the end of April.
URL:https://mostcajun.com/event/art-exhibit-talented-and-gifted-art-students/
LOCATION:LA
ATTACH;FMTTYPE=image/jpeg:https://mostcajun.com/wp-content/uploads/2026/03/art-desserts.jpeg
END:VEVENT
BEGIN:VEVENT
DTSTART;TZID=UTC:20260425T140000
DTEND;TZID=UTC:20260425T180000
DTSTAMP:20260422T123458
CREATED:20250910T165246Z
LAST-MODIFIED:20260129T175748Z
UID:10000155-1777125600-1777140000@mostcajun.com
SUMMARY:Touchet's Jam Session
DESCRIPTION:Come pass a good time while listening and dancing to live Cajun French music. Bring your instruments and join in on the jam session from 2-6pm. Held the second and fourth Saturday of the month.
URL:https://mostcajun.com/event/touchets-jam-session-6/2026-04-25/
LOCATION:Touchet’s Bar\, 7490 Hwy 167\, Maurice\, LA\, 70510\, United States
ATTACH;FMTTYPE=image/jpeg:https://mostcajun.com/wp-content/uploads/2025/07/Touchets.jpg
END:VEVENT
BEGIN:VEVENT
DTSTART;TZID=UTC:20260501T100000
DTEND;TZID=UTC:20260501T110000
DTSTAMP:20260422T123458
CREATED:20250610T164135Z
LAST-MODIFIED:20260129T172619Z
UID:10000121-1777629600-1777633200@mostcajun.com
SUMMARY:French Table at Le Musee de Kaplan
DESCRIPTION:Join the Kaplan Museum for an informal French Table Discussion group. Everyone is invited to attend\, whether you speak French or not! Held the first and third Friday of the month. Table begins at 10am.
URL:https://mostcajun.com/event/french-table-at-le-musee-de-kaplan/2026-05-01/
LOCATION:Le Musee de Kaplan\, 405 N Cushing Blvd\, Kaplan\, LA\, 70548\, United States
ATTACH;FMTTYPE=image/jpeg:https://mostcajun.com/wp-content/uploads/2025/06/kaplan-museum-mural.jpg
END:VEVENT
BEGIN:VEVENT
DTSTART;TZID=UTC:20260502T090000
DTEND;TZID=UTC:20260502T130000
DTSTAMP:20260422T123458
CREATED:20250904T184732Z
LAST-MODIFIED:20260129T165619Z
UID:10000089-1777712400-1777726800@mostcajun.com
SUMMARY:Delcambre Seafood and Farmers Market
DESCRIPTION:Open air market with local produce\, fresh seafood\, music and more! Held the first Saturday of the month from March to December.
URL:https://mostcajun.com/event/delcambre-seafood-and-farmers-market-4/2026-05-02/
LOCATION:Bayou Carlin Cove\, 605 S Railroad St\, Delcambre\, LA\, 70528\, United States
ATTACH;FMTTYPE=image/jpeg:https://mostcajun.com/wp-content/uploads/2025/09/Delcambre_market_cracklin.jpg
END:VEVENT
BEGIN:VEVENT
DTSTART;TZID=UTC:20260509T090000
DTEND;TZID=UTC:20260509T120000
DTSTAMP:20260422T123458
CREATED:20250910T170412Z
LAST-MODIFIED:20260129T172939Z
UID:10000131-1778317200-1778328000@mostcajun.com
SUMMARY:Dutch Oven Gathering
DESCRIPTION:Join the Latanier Cookers at Pavilion #1 for a Dutch Oven cooking demonstration\, interacting with the cooks and taste testing between 11am-noon. Bring your chairs and ice chest! Admission to enter the Park. For info\, 337-298-3098.
URL:https://mostcajun.com/event/dutch-oven-gathering-3/2026-05-09/
LOCATION:Palmetto Island State Park\, 19501 Pleasant Rd\, Abbeville\, LA\, 70510\, United States
ATTACH;FMTTYPE=image/jpeg:https://mostcajun.com/wp-content/uploads/2025/09/latanier-cookers.jpg
END:VEVENT
BEGIN:VEVENT
DTSTART;TZID=UTC:20260509T100000
DTEND;TZID=UTC:20260509T140000
DTSTAMP:20260422T123458
CREATED:20250904T200307Z
LAST-MODIFIED:20260305T160721Z
UID:10000182-1778320800-1778335200@mostcajun.com
SUMMARY:Vermilion Farmers & Artisans Market at the Grub Lot
DESCRIPTION:Come shop the many vendors while enjoying music and good food from the food trucks at The Grub Lot. Markets are held the 2nd Saturday of the month from March to December.
URL:https://mostcajun.com/event/vermilion-farmers-artisans-market-at-the-grub-lot-4/2026-05-09/
LOCATION:The Grub Lot\, 126 Old Railroad Rd\, Erath\, LA\, 70533\, United States
ATTACH;FMTTYPE=image/jpeg:https://mostcajun.com/wp-content/uploads/2025/09/Grub-Lot-market.jpg
END:VEVENT
BEGIN:VEVENT
DTSTART;TZID=UTC:20260509T140000
DTEND;TZID=UTC:20260509T180000
DTSTAMP:20260422T123458
CREATED:20250519T140827Z
LAST-MODIFIED:20260129T175353Z
UID:10000143-1778335200-1778349600@mostcajun.com
SUMMARY:Touchet's Jam Session
DESCRIPTION:Come pass a good time while listening and dancing to live Cajun French music. Bring your instruments and join in on the jam session from 2-6pm. Held the second and fourth Saturday of the month.
URL:https://mostcajun.com/event/touchets-jam-session/2026-05-09/
LOCATION:Touchet’s Bar\, 7490 Hwy 167\, Maurice\, LA\, 70510\, United States
ATTACH;FMTTYPE=image/jpeg:https://mostcajun.com/wp-content/uploads/2025/07/Touchets.jpg
END:VEVENT
BEGIN:VEVENT
DTSTART;TZID=UTC:20260516T080000
DTEND;TZID=UTC:20260516T130000
DTSTAMP:20260422T123458
CREATED:20250904T184222Z
LAST-MODIFIED:20260129T163809Z
UID:10000110-1778918400-1778936400@mostcajun.com
SUMMARY:Abbeville Farmers' & Artisans' Market
DESCRIPTION:Come shop the market in Magdalen Square featuring local seasonal produce\, baked goods\, arts and crafts and more. Local non-profit organizations will be on-site to sell food and refreshments. Held the third Saturday of the month from April to November. For vendor information\, call 337-652-6148.
URL:https://mostcajun.com/event/abbeville-farmers-artisans-market-3/2026-05-16/
LOCATION:Downtown Abbeville\, Downtown\, Abbeville\, LA\, 70510\, United States
ATTACH;FMTTYPE=image/jpeg:https://mostcajun.com/wp-content/uploads/2025/09/farmers-market-general.jpg
END:VEVENT
BEGIN:VEVENT
DTSTART;TZID=UTC:20260522T100000
DTEND;TZID=UTC:20260524T140000
DTSTAMP:20260422T123458
CREATED:20250904T200242Z
LAST-MODIFIED:20260129T170427Z
UID:10000031-1779444000-1779631200@mostcajun.com
SUMMARY:CYT presents: Les Miserables
DESCRIPTION:Enjoy a performance by the Christian Youth Theatre group as they present the student edition of the Broadway musical Les Miserables. Performance times: Fri 7pm; Sat 2 & 7 pm; Sun 2pm. Advance tickets $16\, at the door $18.
URL:https://mostcajun.com/event/vermilion-farmers-artisans-market-at-the-grub-lot-3/
LOCATION:Abbeville High School Auditorium\, 1305 Wildcat Dr\, Abbeville\, 70510\, United States
END:VEVENT
BEGIN:VEVENT
DTSTART;TZID=UTC:20260523T140000
DTEND;TZID=UTC:20260523T180000
DTSTAMP:20260422T123458
CREATED:20250910T165246Z
LAST-MODIFIED:20260129T175748Z
UID:10000156-1779544800-1779559200@mostcajun.com
SUMMARY:Touchet's Jam Session
DESCRIPTION:Come pass a good time while listening and dancing to live Cajun French music. Bring your instruments and join in on the jam session from 2-6pm. Held the second and fourth Saturday of the month.
URL:https://mostcajun.com/event/touchets-jam-session-6/2026-05-23/
LOCATION:Touchet’s Bar\, 7490 Hwy 167\, Maurice\, LA\, 70510\, United States
ATTACH;FMTTYPE=image/jpeg:https://mostcajun.com/wp-content/uploads/2025/07/Touchets.jpg
END:VEVENT
BEGIN:VEVENT
DTSTART;TZID=America/New_York:20260530T083000
DTEND;TZID=America/New_York:20260530T150000
DTSTAMP:20260422T123458
CREATED:20260219T173258Z
LAST-MODIFIED:20260219T173258Z
UID:10000168-1780129800-1780153200@mostcajun.com
SUMMARY:Daylily Festival and Garden Show
DESCRIPTION:A celebration of horticulture and all that it involves. Plants\, garden accessories\, educational speakers\, food and more all set under the beautiful Magdalen Square oaks.
URL:https://mostcajun.com/event/daylily-festival-and-garden-show/
LOCATION:Downtown Abbeville\, Downtown\, Abbeville\, LA\, 70510\, United States
ATTACH;FMTTYPE=image/jpeg:https://mostcajun.com/wp-content/uploads/2026/02/daylily-18_1.jpg
END:VEVENT
BEGIN:VEVENT
DTSTART;TZID=UTC:20260605T100000
DTEND;TZID=UTC:20260605T110000
DTSTAMP:20260422T123458
CREATED:20250610T164135Z
LAST-MODIFIED:20260129T172619Z
UID:10000122-1780653600-1780657200@mostcajun.com
SUMMARY:French Table at Le Musee de Kaplan
DESCRIPTION:Join the Kaplan Museum for an informal French Table Discussion group. Everyone is invited to attend\, whether you speak French or not! Held the first and third Friday of the month. Table begins at 10am.
URL:https://mostcajun.com/event/french-table-at-le-musee-de-kaplan/2026-06-05/
LOCATION:Le Musee de Kaplan\, 405 N Cushing Blvd\, Kaplan\, LA\, 70548\, United States
ATTACH;FMTTYPE=image/jpeg:https://mostcajun.com/wp-content/uploads/2025/06/kaplan-museum-mural.jpg
END:VEVENT
BEGIN:VEVENT
DTSTART;TZID=UTC:20260606T090000
DTEND;TZID=UTC:20260606T130000
DTSTAMP:20260422T123458
CREATED:20250904T184732Z
LAST-MODIFIED:20260129T165619Z
UID:10000090-1780736400-1780750800@mostcajun.com
SUMMARY:Delcambre Seafood and Farmers Market
DESCRIPTION:Open air market with local produce\, fresh seafood\, music and more! Held the first Saturday of the month from March to December.
URL:https://mostcajun.com/event/delcambre-seafood-and-farmers-market-4/2026-06-06/
LOCATION:Bayou Carlin Cove\, 605 S Railroad St\, Delcambre\, LA\, 70528\, United States
ATTACH;FMTTYPE=image/jpeg:https://mostcajun.com/wp-content/uploads/2025/09/Delcambre_market_cracklin.jpg
END:VEVENT
BEGIN:VEVENT
DTSTART;TZID=UTC:20260613T090000
DTEND;TZID=UTC:20260613T120000
DTSTAMP:20260422T123458
CREATED:20250910T170412Z
LAST-MODIFIED:20260129T172939Z
UID:10000132-1781341200-1781352000@mostcajun.com
SUMMARY:Dutch Oven Gathering
DESCRIPTION:Join the Latanier Cookers at Pavilion #1 for a Dutch Oven cooking demonstration\, interacting with the cooks and taste testing between 11am-noon. Bring your chairs and ice chest! Admission to enter the Park. For info\, 337-298-3098.
URL:https://mostcajun.com/event/dutch-oven-gathering-3/2026-06-13/
LOCATION:Palmetto Island State Park\, 19501 Pleasant Rd\, Abbeville\, LA\, 70510\, United States
ATTACH;FMTTYPE=image/jpeg:https://mostcajun.com/wp-content/uploads/2025/09/latanier-cookers.jpg
END:VEVENT
BEGIN:VEVENT
DTSTART;TZID=UTC:20260613T100000
DTEND;TZID=UTC:20260613T140000
DTSTAMP:20260422T123458
CREATED:20250904T200307Z
LAST-MODIFIED:20260305T160721Z
UID:10000183-1781344800-1781359200@mostcajun.com
SUMMARY:Vermilion Farmers & Artisans Market at the Grub Lot
DESCRIPTION:Come shop the many vendors while enjoying music and good food from the food trucks at The Grub Lot. Markets are held the 2nd Saturday of the month from March to December.
URL:https://mostcajun.com/event/vermilion-farmers-artisans-market-at-the-grub-lot-4/2026-06-13/
LOCATION:The Grub Lot\, 126 Old Railroad Rd\, Erath\, LA\, 70533\, United States
ATTACH;FMTTYPE=image/jpeg:https://mostcajun.com/wp-content/uploads/2025/09/Grub-Lot-market.jpg
END:VEVENT
BEGIN:VEVENT
DTSTART;TZID=UTC:20260613T140000
DTEND;TZID=UTC:20260613T180000
DTSTAMP:20260422T123458
CREATED:20250519T140827Z
LAST-MODIFIED:20260129T175353Z
UID:10000144-1781359200-1781373600@mostcajun.com
SUMMARY:Touchet's Jam Session
DESCRIPTION:Come pass a good time while listening and dancing to live Cajun French music. Bring your instruments and join in on the jam session from 2-6pm. Held the second and fourth Saturday of the month.
URL:https://mostcajun.com/event/touchets-jam-session/2026-06-13/
LOCATION:Touchet’s Bar\, 7490 Hwy 167\, Maurice\, LA\, 70510\, United States
ATTACH;FMTTYPE=image/jpeg:https://mostcajun.com/wp-content/uploads/2025/07/Touchets.jpg
END:VEVENT
BEGIN:VEVENT
DTSTART;TZID=UTC:20260620T080000
DTEND;TZID=UTC:20260620T130000
DTSTAMP:20260422T123458
CREATED:20250904T184222Z
LAST-MODIFIED:20260129T163809Z
UID:10000111-1781942400-1781960400@mostcajun.com
SUMMARY:Abbeville Farmers' & Artisans' Market
DESCRIPTION:Come shop the market in Magdalen Square featuring local seasonal produce\, baked goods\, arts and crafts and more. Local non-profit organizations will be on-site to sell food and refreshments. Held the third Saturday of the month from April to November. For vendor information\, call 337-652-6148.
URL:https://mostcajun.com/event/abbeville-farmers-artisans-market-3/2026-06-20/
LOCATION:Downtown Abbeville\, Downtown\, Abbeville\, LA\, 70510\, United States
ATTACH;FMTTYPE=image/jpeg:https://mostcajun.com/wp-content/uploads/2025/09/farmers-market-general.jpg
END:VEVENT
BEGIN:VEVENT
DTSTART;TZID=UTC:20260627T140000
DTEND;TZID=UTC:20260627T180000
DTSTAMP:20260422T123458
CREATED:20250910T165246Z
LAST-MODIFIED:20260129T175748Z
UID:10000157-1782568800-1782583200@mostcajun.com
SUMMARY:Touchet's Jam Session
DESCRIPTION:Come pass a good time while listening and dancing to live Cajun French music. Bring your instruments and join in on the jam session from 2-6pm. Held the second and fourth Saturday of the month.
URL:https://mostcajun.com/event/touchets-jam-session-6/2026-06-27/
LOCATION:Touchet’s Bar\, 7490 Hwy 167\, Maurice\, LA\, 70510\, United States
ATTACH;FMTTYPE=image/jpeg:https://mostcajun.com/wp-content/uploads/2025/07/Touchets.jpg
END:VEVENT
BEGIN:VEVENT
DTSTART;TZID=UTC:20260630T180000
DTEND;TZID=UTC:20260704T233000
DTSTAMP:20260422T123458
CREATED:20260219T174550Z
LAST-MODIFIED:20260219T183725Z
UID:10000169-1782842400-1783207800@mostcajun.com
SUMMARY:Annual Erath 4th of July Celebration
DESCRIPTION:Celebrate our nation’s independence with an old-fashioned street fair for five days with carnival rides and games\, food\, live music every night\, parade\, water fights and a large fireworks display on July 4th.
URL:https://mostcajun.com/event/annual-erath-4th-of-july-celebration-2/
LOCATION:Town of Erath\, 115 W Edwards\, Erath\, LA\, 70533\, United States
ATTACH;FMTTYPE=image/jpeg:https://mostcajun.com/wp-content/uploads/2026/02/erath-water-fights.jpg
END:VEVENT
BEGIN:VEVENT
DTSTART;TZID=UTC:20260703T100000
DTEND;TZID=UTC:20260703T110000
DTSTAMP:20260422T123458
CREATED:20250610T164135Z
LAST-MODIFIED:20260129T172619Z
UID:10000123-1783072800-1783076400@mostcajun.com
SUMMARY:French Table at Le Musee de Kaplan
DESCRIPTION:Join the Kaplan Museum for an informal French Table Discussion group. Everyone is invited to attend\, whether you speak French or not! Held the first and third Friday of the month. Table begins at 10am.
URL:https://mostcajun.com/event/french-table-at-le-musee-de-kaplan/2026-07-03/
LOCATION:Le Musee de Kaplan\, 405 N Cushing Blvd\, Kaplan\, LA\, 70548\, United States
ATTACH;FMTTYPE=image/jpeg:https://mostcajun.com/wp-content/uploads/2025/06/kaplan-museum-mural.jpg
END:VEVENT
BEGIN:VEVENT
DTSTART;TZID=UTC:20260704T090000
DTEND;TZID=UTC:20260704T130000
DTSTAMP:20260422T123458
CREATED:20250904T184732Z
LAST-MODIFIED:20260129T165619Z
UID:10000091-1783155600-1783170000@mostcajun.com
SUMMARY:Delcambre Seafood and Farmers Market
DESCRIPTION:Open air market with local produce\, fresh seafood\, music and more! Held the first Saturday of the month from March to December.
URL:https://mostcajun.com/event/delcambre-seafood-and-farmers-market-4/2026-07-04/
LOCATION:Bayou Carlin Cove\, 605 S Railroad St\, Delcambre\, LA\, 70528\, United States
ATTACH;FMTTYPE=image/jpeg:https://mostcajun.com/wp-content/uploads/2025/09/Delcambre_market_cracklin.jpg
END:VEVENT
BEGIN:VEVENT
DTSTART;TZID=UTC:20260711T090000
DTEND;TZID=UTC:20260711T120000
DTSTAMP:20260422T123458
CREATED:20250910T170412Z
LAST-MODIFIED:20260129T172939Z
UID:10000133-1783760400-1783771200@mostcajun.com
SUMMARY:Dutch Oven Gathering
DESCRIPTION:Join the Latanier Cookers at Pavilion #1 for a Dutch Oven cooking demonstration\, interacting with the cooks and taste testing between 11am-noon. Bring your chairs and ice chest! Admission to enter the Park. For info\, 337-298-3098.
URL:https://mostcajun.com/event/dutch-oven-gathering-3/2026-07-11/
LOCATION:Palmetto Island State Park\, 19501 Pleasant Rd\, Abbeville\, LA\, 70510\, United States
ATTACH;FMTTYPE=image/jpeg:https://mostcajun.com/wp-content/uploads/2025/09/latanier-cookers.jpg
END:VEVENT
BEGIN:VEVENT
DTSTART;TZID=UTC:20260711T100000
DTEND;TZID=UTC:20260711T140000
DTSTAMP:20260422T123458
CREATED:20250904T200307Z
LAST-MODIFIED:20260305T160721Z
UID:10000184-1783764000-1783778400@mostcajun.com
SUMMARY:Vermilion Farmers & Artisans Market at the Grub Lot
DESCRIPTION:Come shop the many vendors while enjoying music and good food from the food trucks at The Grub Lot. Markets are held the 2nd Saturday of the month from March to December.
URL:https://mostcajun.com/event/vermilion-farmers-artisans-market-at-the-grub-lot-4/2026-07-11/
LOCATION:The Grub Lot\, 126 Old Railroad Rd\, Erath\, LA\, 70533\, United States
ATTACH;FMTTYPE=image/jpeg:https://mostcajun.com/wp-content/uploads/2025/09/Grub-Lot-market.jpg
END:VEVENT
BEGIN:VEVENT
DTSTART;TZID=UTC:20260711T140000
DTEND;TZID=UTC:20260711T180000
DTSTAMP:20260422T123458
CREATED:20250519T140827Z
LAST-MODIFIED:20260129T175353Z
UID:10000145-1783778400-1783792800@mostcajun.com
SUMMARY:Touchet's Jam Session
DESCRIPTION:Come pass a good time while listening and dancing to live Cajun French music. Bring your instruments and join in on the jam session from 2-6pm. Held the second and fourth Saturday of the month.
URL:https://mostcajun.com/event/touchets-jam-session/2026-07-11/
LOCATION:Touchet’s Bar\, 7490 Hwy 167\, Maurice\, LA\, 70510\, United States
ATTACH;FMTTYPE=image/jpeg:https://mostcajun.com/wp-content/uploads/2025/07/Touchets.jpg
END:VEVENT
BEGIN:VEVENT
DTSTART;TZID=UTC:20260718T080000
DTEND;TZID=UTC:20260718T130000
DTSTAMP:20260422T123458
CREATED:20250904T184222Z
LAST-MODIFIED:20260129T163809Z
UID:10000112-1784361600-1784379600@mostcajun.com
SUMMARY:Abbeville Farmers' & Artisans' Market
DESCRIPTION:Come shop the market in Magdalen Square featuring local seasonal produce\, baked goods\, arts and crafts and more. Local non-profit organizations will be on-site to sell food and refreshments. Held the third Saturday of the month from April to November. For vendor information\, call 337-652-6148.
URL:https://mostcajun.com/event/abbeville-farmers-artisans-market-3/2026-07-18/
LOCATION:Downtown Abbeville\, Downtown\, Abbeville\, LA\, 70510\, United States
ATTACH;FMTTYPE=image/jpeg:https://mostcajun.com/wp-content/uploads/2025/09/farmers-market-general.jpg
END:VEVENT
BEGIN:VEVENT
DTSTART;TZID=UTC:20260725T140000
DTEND;TZID=UTC:20260725T180000
DTSTAMP:20260422T123458
CREATED:20250910T165246Z
LAST-MODIFIED:20260129T175748Z
UID:10000158-1784988000-1785002400@mostcajun.com
SUMMARY:Touchet's Jam Session
DESCRIPTION:Come pass a good time while listening and dancing to live Cajun French music. Bring your instruments and join in on the jam session from 2-6pm. Held the second and fourth Saturday of the month.
URL:https://mostcajun.com/event/touchets-jam-session-6/2026-07-25/
LOCATION:Touchet’s Bar\, 7490 Hwy 167\, Maurice\, LA\, 70510\, United States
ATTACH;FMTTYPE=image/jpeg:https://mostcajun.com/wp-content/uploads/2025/07/Touchets.jpg
END:VEVENT
BEGIN:VEVENT
DTSTART;TZID=UTC:20260801T090000
DTEND;TZID=UTC:20260801T130000
DTSTAMP:20260422T123458
CREATED:20250904T184732Z
LAST-MODIFIED:20260129T165619Z
UID:10000092-1785574800-1785589200@mostcajun.com
SUMMARY:Delcambre Seafood and Farmers Market
DESCRIPTION:Open air market with local produce\, fresh seafood\, music and more! Held the first Saturday of the month from March to December.
URL:https://mostcajun.com/event/delcambre-seafood-and-farmers-market-4/2026-08-01/
LOCATION:Bayou Carlin Cove\, 605 S Railroad St\, Delcambre\, LA\, 70528\, United States
ATTACH;FMTTYPE=image/jpeg:https://mostcajun.com/wp-content/uploads/2025/09/Delcambre_market_cracklin.jpg
END:VEVENT
BEGIN:VEVENT
DTSTART;TZID=UTC:20260807T100000
DTEND;TZID=UTC:20260807T110000
DTSTAMP:20260422T123458
CREATED:20250610T164135Z
LAST-MODIFIED:20260129T172619Z
UID:10000124-1786096800-1786100400@mostcajun.com
SUMMARY:French Table at Le Musee de Kaplan
DESCRIPTION:Join the Kaplan Museum for an informal French Table Discussion group. Everyone is invited to attend\, whether you speak French or not! Held the first and third Friday of the month. Table begins at 10am.
URL:https://mostcajun.com/event/french-table-at-le-musee-de-kaplan/2026-08-07/
LOCATION:Le Musee de Kaplan\, 405 N Cushing Blvd\, Kaplan\, LA\, 70548\, United States
ATTACH;FMTTYPE=image/jpeg:https://mostcajun.com/wp-content/uploads/2025/06/kaplan-museum-mural.jpg
END:VEVENT
BEGIN:VEVENT
DTSTART;TZID=UTC:20260808T090000
DTEND;TZID=UTC:20260808T120000
DTSTAMP:20260422T123458
CREATED:20250910T170412Z
LAST-MODIFIED:20260129T172939Z
UID:10000134-1786179600-1786190400@mostcajun.com
SUMMARY:Dutch Oven Gathering
DESCRIPTION:Join the Latanier Cookers at Pavilion #1 for a Dutch Oven cooking demonstration\, interacting with the cooks and taste testing between 11am-noon. Bring your chairs and ice chest! Admission to enter the Park. For info\, 337-298-3098.
URL:https://mostcajun.com/event/dutch-oven-gathering-3/2026-08-08/
LOCATION:Palmetto Island State Park\, 19501 Pleasant Rd\, Abbeville\, LA\, 70510\, United States
ATTACH;FMTTYPE=image/jpeg:https://mostcajun.com/wp-content/uploads/2025/09/latanier-cookers.jpg
END:VEVENT
BEGIN:VEVENT
DTSTART;TZID=UTC:20260808T100000
DTEND;TZID=UTC:20260808T140000
DTSTAMP:20260422T123458
CREATED:20250904T200307Z
LAST-MODIFIED:20260305T160721Z
UID:10000185-1786183200-1786197600@mostcajun.com
SUMMARY:Vermilion Farmers & Artisans Market at the Grub Lot
DESCRIPTION:Come shop the many vendors while enjoying music and good food from the food trucks at The Grub Lot. Markets are held the 2nd Saturday of the month from March to December.
URL:https://mostcajun.com/event/vermilion-farmers-artisans-market-at-the-grub-lot-4/2026-08-08/
LOCATION:The Grub Lot\, 126 Old Railroad Rd\, Erath\, LA\, 70533\, United States
ATTACH;FMTTYPE=image/jpeg:https://mostcajun.com/wp-content/uploads/2025/09/Grub-Lot-market.jpg
END:VEVENT
END:VCALENDAR