BEGIN:VCALENDAR
VERSION:2.0
PRODID:-//Vermilion Parish - ECPv6.15.20//NONSGML v1.0//EN
CALSCALE:GREGORIAN
METHOD:PUBLISH
X-WR-CALNAME:Vermilion Parish
X-ORIGINAL-URL:https://mostcajun.com
X-WR-CALDESC:Events for Vermilion Parish
REFRESH-INTERVAL;VALUE=DURATION:PT1H
X-Robots-Tag:noindex
X-PUBLISHED-TTL:PT1H
BEGIN:VTIMEZONE
TZID:UTC
BEGIN:STANDARD
TZOFFSETFROM:+0000
TZOFFSETTO:+0000
TZNAME:UTC
DTSTART:20250101T000000
END:STANDARD
END:VTIMEZONE
BEGIN:VEVENT
DTSTART;TZID=UTC:20260302T090000
DTEND;TZID=UTC:20260424T160000
DTSTAMP:20260422T110338
CREATED:20260303T194346Z
LAST-MODIFIED:20260303T194346Z
UID:10000179-1772442000-1777046400@mostcajun.com
SUMMARY:Art Exhibit: Talented and Gifted Art Students
DESCRIPTION:View the drawings\, paintings and realistic “deserts” made from clay by the Vermilion Parish Talented and Gifted art students. Meet the Artist on Wednesday\, March 25 from 5-7pm. Exhibit will be on display until the end of April.
URL:https://mostcajun.com/event/art-exhibit-talented-and-gifted-art-students/
LOCATION:LA
ATTACH;FMTTYPE=image/jpeg:https://mostcajun.com/wp-content/uploads/2026/03/art-desserts.jpeg
END:VEVENT
END:VCALENDAR